View In:
ArcGIS JavaScript
ArcGIS Online Map Viewer
ArcGIS Earth
Service Description: DEM_20m_tyu
Name: DEM_20m_tyu
Description:
Single Fused Map Cache: true
Tile Info:
- Height: 256
- Width: 256
- DPI: 91
-
Levels of Detail: 20
-
Level ID: 0
[ Start Tile, End Tile ]
- Resolution: 156543.03392806067
- Scale: 5.590822640287178E8
-
Level ID: 1
[ Start Tile, End Tile ]
- Resolution: 78271.51696403034
- Scale: 2.795411320143589E8
-
Level ID: 2
[ Start Tile, End Tile ]
- Resolution: 39135.75848201517
- Scale: 1.3977056600717944E8
-
Level ID: 3
[ Start Tile, End Tile ]
- Resolution: 19567.879241007584
- Scale: 6.988528300358972E7
-
Level ID: 4
[ Start Tile, End Tile ]
- Resolution: 9783.939620503792
- Scale: 3.494264150179486E7
-
Level ID: 5
[ Start Tile, End Tile ]
- Resolution: 4891.969810251896
- Scale: 1.747132075089743E7
-
Level ID: 6
[ Start Tile, End Tile ]
- Resolution: 2445.984905125948
- Scale: 8735660.375448715
-
Level ID: 7
[ Start Tile, End Tile ]
- Resolution: 1222.992452562974
- Scale: 4367830.1877243575
-
Level ID: 8
[ Start Tile, End Tile ]
- Resolution: 611.496226281487
- Scale: 2183915.0938621787
-
Level ID: 9
[ Start Tile, End Tile ]
- Resolution: 305.7481131407435
- Scale: 1091957.5469310894
-
Level ID: 10
[ Start Tile, End Tile ]
- Resolution: 152.87405657037175
- Scale: 545978.7734655447
-
Level ID: 11
[ Start Tile, End Tile ]
- Resolution: 76.43702828518587
- Scale: 272989.38673277234
-
Level ID: 12
[ Start Tile, End Tile ]
- Resolution: 38.21851414259294
- Scale: 136494.69336638617
-
Level ID: 13
[ Start Tile, End Tile ]
- Resolution: 19.10925707129647
- Scale: 68247.34668319309
-
Level ID: 14
[ Start Tile, End Tile ]
- Resolution: 9.554628535648234
- Scale: 34123.67334159654
-
Level ID: 15
[ Start Tile, End Tile ]
- Resolution: 4.777314267824117
- Scale: 17061.83667079827
-
Level ID: 16
[ Start Tile, End Tile ]
- Resolution: 2.3886571339120586
- Scale: 8530.918335399136
-
Level ID: 17
[ Start Tile, End Tile ]
- Resolution: 1.1943285669560293
- Scale: 4265.459167699568
-
Level ID: 18
[ Start Tile, End Tile ]
- Resolution: 0.5971642834780146
- Scale: 2132.729583849784
-
Level ID: 19
[ Start Tile, End Tile ]
- Resolution: 0.2985821417390073
- Scale: 1066.364791924892
- Format: LERC
- Compression Quality: 0.0
- LERC Error: 0.05
- Origin: X: -2.003750834278925E7
Y: 2.003750834278925E7
- Spatial Reference: 102100
(3857)
Storage Info:
- Storage Format: esriMapCacheStorageModeCompactV2
- Packet Size: 128
Extent:
XMin: 1.3467654485173902E7
YMin: 2825002.843504695
XMax: 1.3523284151344268E7
YMax: 2890963.657608278
Spatial Reference: 102100
(3857)
Initial Extent:
XMin: 1.3467654485173902E7
YMin: 2825002.843504695
XMax: 1.3523284151344268E7
YMax: 2890963.657608278
Spatial Reference: 102100
(3857)
Full Extent:
XMin: 1.3467654485173902E7
YMin: 2825002.843504695
XMax: 1.3523284151344268E7
YMax: 2890963.657608278
Spatial Reference: 102100
(3857)
Pixel Size X: 19.99711178466234
Pixel Size Y: 19.995036665375252
Band Count: 1
Pixel Type: S16
RasterFunction Infos: {"rasterFunctionInfos": [{
"name": "None",
"description": "",
"help": ""
}]}
Mensuration Capabilities: Basic
Has Histograms: true
Has Colormap: false
Has Multi Dimensions : false
Rendering Rule:
Min Scale: 5.590822640287178E8
Max Scale: 17061.83667079827
Min LOD: 0
Max LOD: 15
Copyright Text:
Service Data Type: esriImageServiceDataTypeGeneric
Min Values: -2
Max Values: 2441
Mean Values: 369.0795048459336
Standard Deviation Values: 466.15688993640435
Object ID Field:
Fields:
None
Default Mosaic Method: Center
Allowed Mosaic Methods:
SortField:
SortValue: null
Mosaic Operator: First
Default Compression Quality: 75
Default Resampling Method: Bilinear
Max Record Count: null
Max Image Height: 4100
Max Image Width: 15000
Max Download Image Count: null
Max Mosaic Image Count: null
Allow Raster Function: true
Allow Copy: true
Allow Analysis: true
Allow Compute TiePoints: false
Supports Statistics: false
Supports Advanced Queries: false
Use StandardizedQueries: true
Raster Type Infos:
Name: Raster Dataset
Description: Supports all ArcGIS Raster Datasets
Help:
Has Raster Attribute Table: false
Edit Fields Info: null
Ownership Based AccessControl For Rasters: null
Child Resources:
Info
Histograms
Statistics
Key Properties
Legend
Raster Function Infos
Supported Operations:
Export Image
Identify
Measure
Compute Histograms
Compute Statistics Histograms
Get Samples
Compute Class Statistics
Query Boundary
Compute Pixel Location
Compute Angles
Validate
Project